BEGIN:VCALENDAR
VERSION:2.0
PRODID:-//Crosby Integrative Training - ECPv6.15.17.1//NONSGML v1.0//EN
CALSCALE:GREGORIAN
METHOD:PUBLISH
X-ORIGINAL-URL:https://crosbyintegrativetraining.com
X-WR-CALDESC:Events for Crosby Integrative Training
REFRESH-INTERVAL;VALUE=DURATION:PT1H
X-Robots-Tag:noindex
X-PUBLISHED-TTL:PT1H
BEGIN:VTIMEZONE
TZID:UTC
BEGIN:STANDARD
TZOFFSETFROM:+0000
TZOFFSETTO:+0000
TZNAME:UTC
DTSTART:20190101T000000
END:STANDARD
END:VTIMEZONE
BEGIN:VEVENT
DTSTART;TZID=UTC:20240927T130000
DTEND;TZID=UTC:20240927T171500
DTSTAMP:20260423T203643
CREATED:20180821T071348Z
LAST-MODIFIED:20240528T000218Z
UID:6558-1727442000-1727457300@crosbyintegrativetraining.com
SUMMARY:Webinar: Integrative Cognitive Behavioral Therapy Enhanced with Schema Therapy (4 CE’s)
DESCRIPTION:Description of Training: \nCBT  needs a new creative and engaging approach to reach out to clients in individual and group therapy. The Integrative Cognitive Behavioral and Schema Therapy brings a holistic dimension to therapy by blending behavioral/cognitive strategies and storytelling with Psychodynamic Schema Therapy.  In this workshop you will learn step-by-step methods for individual and group therapy designed to be adapted to each client. The goal is to provide achievable tools that can be adapted to each individual to navigate one’s life journey. \nThis integrative model provides a uniquely bio-psycho-social skills based approach encouraging clients to discover strengths\, deepening interpersonal connections\, locating resources and finding resilience.  Behavioral skills will be shown on how to start the  schema change.   The workshop will illustrate how to enhance CBT with metaphor\, art and music and other learning styles. The cognitive/behavioral  skills will help illustrate how to shift schemas through behavior change\, annotate history within the automatic thought record and encourage a gestalt structured approach  with rehearsals. These skills are also easily adapted to trauma\,  stress management\, ADHD\, anger and couples communication problems. \nThis training will be conducted in a webinar format. You will receive an email prior to the webinar with instructions on how to log in to the webinar. \nLearning Objectives: \n\nIdentity key behavioral skills in Integrated CBT that can bring about cognitive/mood change.\nExamine core cognitive skills to enhance change.\nLearn how to identify schemas and examine the three schema pathways.\nUnderstand how to utilize the automatic thought record as a structured Gestalt.\nLearn the difference between transmission of skill and transacting a skill.\nDevelop individualized maintenance or relapse prevention plan within therapy.
URL:https://crosbyintegrativetraining.com/course/integrative-cognitive-behavioral-therapy-and-interpersonal-neurobiology-individual-and-group-treatment-2-2-2/
CATEGORIES:Mental Health
ORGANIZER;CN="Greg Crosby MA LPC ICGP FAGPA":MAILTO:gregc1112@aol.com
END:VEVENT
BEGIN:VEVENT
DTSTART;TZID=UTC:20221104T090000
DTEND;TZID=UTC:20221104T163000
DTSTAMP:20260423T203643
CREATED:20180821T071348Z
LAST-MODIFIED:20220419T002256Z
UID:5938-1667552400-1667579400@crosbyintegrativetraining.com
SUMMARY:Webinar: Integrative Cognitive Behavioral Therapy Enhanced with Interpersonal Neurobiology and Attachment Theory (6 CE’s)
DESCRIPTION:Description of Training: \nCBT  needs a new creative and engaging approach to reach out to clients in individual and group therapy. The Integrative Cognitive Behavioral Therapy and Interpersonal Neurobiology model brings a holistic dimension to therapy by blending  brain science\, attachment theory\,  motivational interviewing\, behavioral/cognitive strategies and story telling.  In this workshop you will learn step-by-step methods for individual and group therapy designed to be adapted to each client. The goal is to provide achievable tools that can be adapted to each individual to navigate one’s life journey. \nThis integrative model provides a uniquely bio-psycho-social skills based approach encouraging clients to discover strengths\, deepening interpersonal connections\, locating resources and finding resilience.  Behavioral skills will be shown on how to start the  schema change.   The workshop will illustrate how to enhance CBT with metaphor\, art and music and other learning styles. The cognitive/behavioral  skills will help illustrate how to shift schemas through behavior change\, annotate history within the automatic thought record and encourage a gestalt structured approach  with rehearsals. These skills are also  be easily adapted to trauma\,  stress management\, ADHD\, anger and couples communication problems. \nThis training will be conducted in a webinar format. You will receive an email prior to the webinar with instructions on how to log in to the webinar. \nLearning Objectives: \n\nFocus on how to frame Interpersonal Neurobiology into your Integrated CBT clinical practice\nIdentity key behavioral skills in Integrated CBT that focus on sequencing and pacing\nExamine core cognitive skills that enhance change\nLearn 4 lessons of Interpersonal Neurobiology for Integrated CBT\nUnderstand how to integrate Automatic Thought Records to enhance individual learning\nLearn methods to adapt Integrated CBT into a group for depression and anxiety\nDevelop individualized Maintenance and Relapse Plan for treatment
URL:https://crosbyintegrativetraining.com/course/integrative-cognitive-behavioral-therapy-and-interpersonal-neurobiology-individual-and-group-treatment-2-2/
CATEGORIES:Mental Health
ORGANIZER;CN="Greg Crosby MA LPC ICGP FAGPA":MAILTO:gregc1112@aol.com
END:VEVENT
BEGIN:VEVENT
DTSTART;TZID=UTC:20211105T090000
DTEND;TZID=UTC:20211105T163000
DTSTAMP:20260423T203643
CREATED:20180821T071348Z
LAST-MODIFIED:20210320T001629Z
UID:5660-1636102800-1636129800@crosbyintegrativetraining.com
SUMMARY:Webinar: Integrative Cognitive Behavioral Therapy and Interpersonal Neurobiology  (6 CE’s)
DESCRIPTION:Description of Training: \nThe Integrative Cognitive Behavioral Therapy and Interpersonal Neurobiology model brings an exciting\, new dimension to therapy by blending the latest in 21st century brain science\, behavioral/cognitive strategies with simple\, realistic and achievable goals. In this workshop you will learn step-by-step methods for helping adult clients overcome anxiety and depression. \nThis integrative model provides uniquely bio-psycho-social skills-based approach that focuses clients on cultivating strengths\, deepening interpersonal connections\, and locating resources. These skills are also easily adapted to  Stress Management\, ADHD\, Anger and Couples Communication problems. \nThis training will be conducted in a webinar format. You will receive an email prior to the webinar with instructions on how to log in to the webinar. \nLearning Objectives: \n\nFocus on how to frame Interpersonal Neurobiology into your Integrated CBT clinical practice\nIdentity key behavioral skills in Integrated CBT that focus on sequencing and pacing\nExamine core cognitive skills that enhance change\nLearn 4 lessons of Interpersonal Neurobiology for Integrated CBT\nUnderstand how to integrate Automatic Thought Records to enhance individual learning\nLearn methods to adapt Integrated CBT into a group for depression and anxiety\nDevelop individualized Maintenance and Relapse Plan for treatment
URL:https://crosbyintegrativetraining.com/course/integrative-cognitive-behavioral-therapy-and-interpersonal-neurobiology-individual-and-group-treatment-2/
CATEGORIES:Mental Health
ORGANIZER;CN="Greg Crosby MA LPC ICGP FAGPA":MAILTO:gregc1112@aol.com
END:VEVENT
BEGIN:VEVENT
DTSTART;TZID=UTC:20200410T090000
DTEND;TZID=UTC:20200410T163000
DTSTAMP:20260423T203643
CREATED:20180821T071348Z
LAST-MODIFIED:20200330T024949Z
UID:4793-1586509200-1586536200@crosbyintegrativetraining.com
SUMMARY:Webinar: Integrative Cognitive Behavioral Therapy and Interpersonal Neurobiology  (6 CE’s)
DESCRIPTION:Description of Training: \nThe Integrative Cognitive Behavioral Therapy and Interpersonal Neurobiology model brings an exciting\, new dimension to therapy by blending the latest in 21st century brain science\, behavioral/cognitive strategies with simple\, realistic and achievable goals. In this workshop you will learn step-by-step methods for helping adult clients overcome anxiety and depression. \nThis integrative model provides uniquely bio-psycho-social skills-based approach that focuses clients on cultivating strengths\, deepening interpersonal connections\, and locating resources. These skills are also easily adapted to  Stress Management\, ADHD\, Anger and Couples Communication problems. \nThis training will be conducted in a webinar format. You will receive an email prior to the webinar with instructions on how to log in to the webinar. \nLearning Objectives: \n\nFocus on how to frame Interpersonal Neurobiology into your Integrated CBT clinical practice\nIdentity key behavioral skills in Integrated CBT that focus on sequencing and pacing\nExamine core cognitive skills that enhance change\nLearn 4 lessons of Interpersonal Neurobiology for Integrated CBT\nUnderstand how to integrate Automatic Thought Records to enhance individual learning\nLearn methods to adapt Integrated CBT into a group for depression and anxiety\nDevelop individualized Maintenance and Relapse Plan for treatment
URL:https://crosbyintegrativetraining.com/course/integrative-cognitive-behavioral-therapy-and-interpersonal-neurobiology-individual-and-group-treatment/
CATEGORIES:Mental Health
ORGANIZER;CN="Greg Crosby MA LPC ICGP FAGPA":MAILTO:gregc1112@aol.com
END:VEVENT
END:VCALENDAR