BEGIN:VCALENDAR
VERSION:2.0
PRODID:-//Crosby Integrative Training - ECPv6.15.17.1//NONSGML v1.0//EN
CALSCALE:GREGORIAN
METHOD:PUBLISH
X-WR-CALNAME:Crosby Integrative Training
X-ORIGINAL-URL:https://crosbyintegrativetraining.com
X-WR-CALDESC:Events for Crosby Integrative Training
REFRESH-INTERVAL;VALUE=DURATION:PT1H
X-Robots-Tag:noindex
X-PUBLISHED-TTL:PT1H
BEGIN:VTIMEZONE
TZID:UTC
BEGIN:STANDARD
TZOFFSETFROM:+0000
TZOFFSETTO:+0000
TZNAME:UTC
DTSTART:20250101T000000
END:STANDARD
END:VTIMEZONE
BEGIN:VEVENT
DTSTART;TZID=UTC:20260213T130000
DTEND;TZID=UTC:20260213T171500
DTSTAMP:20260423T172805
CREATED:20251203T220854Z
LAST-MODIFIED:20251203T220854Z
UID:6962-1770987600-1771002900@crosbyintegrativetraining.com
SUMMARY:Webinar: Applying the Hero’s Journey\, Archetypes and Interpersonal Neurobiology in Therapy (4 CE's)
DESCRIPTION:Description of Training: \nThe client’s therapeutic process in addiction and mental health problems is a mythic journey one full of struggles\, challenges and rewards. The Hero’s Journey model formulated by Joseph Campbell  is based on common patterns of  change found throughout 240 stories in the world.  This workshop will delineate and explore how to flexibly integrate the 12 Hero’s Journey Stages\, 12 common Archetypes with Stages of Change and Interpersonal Neurobiology in therapy.  This workshop is a strength based engaging approach that weaves ancient wisdom and modern science into therapy and can be adapted to socio-cultural concerns. It is a refreshing structured approach that allows clients to discover how to navigate difficulties and locate hope. This model can be adapted to any therapy and treatment modality. Meets Cultural Competency CE requirement. \nThis training will be conducted in a webinar format. You will receive an email prior to the webinar with instructions on how to sign in to the webinar. \nLearning Objectives: \n\nDelineate the elements in the Hero’s Journey within  common cultural patterns.\nExplore the linkage between the Hero’s Journey and Stages of Change.\nApply the Stages of the Hero’s Journey to the therapeutic process.\nExplore the universality of  Stages of the Hero’s Journey\, 12 common Archetypes and link to clinical and  socio-cultural concerns.\nUnderstand the Interpersonal Neurobiology of story telling\, and emotional regulation within  the Hero’s Journey model.
URL:https://crosbyintegrativetraining.com/course/heros-journey-in-therapy-integrating-joseph-campbell-and-evidenced-based-practices-4-2-2-2-3-2-copy/
CATEGORIES:Mental Health
ORGANIZER;CN="Greg Crosby MA LPC ICGP FAGPA":MAILTO:gregc1112@aol.com
END:VEVENT
END:VCALENDAR