BEGIN:VCALENDAR
VERSION:2.0
PRODID:-//Crosby Integrative Training - ECPv6.15.17.1//NONSGML v1.0//EN
CALSCALE:GREGORIAN
METHOD:PUBLISH
X-WR-CALNAME:Crosby Integrative Training
X-ORIGINAL-URL:https://crosbyintegrativetraining.com
X-WR-CALDESC:Events for Crosby Integrative Training
REFRESH-INTERVAL;VALUE=DURATION:PT1H
X-Robots-Tag:noindex
X-PUBLISHED-TTL:PT1H
BEGIN:VTIMEZONE
TZID:UTC
BEGIN:STANDARD
TZOFFSETFROM:+0000
TZOFFSETTO:+0000
TZNAME:UTC
DTSTART:20240101T000000
END:STANDARD
END:VTIMEZONE
BEGIN:VEVENT
DTSTART;TZID=UTC:20250926T130000
DTEND;TZID=UTC:20250926T171500
DTSTAMP:20260424T001617
CREATED:20250328T004004Z
LAST-MODIFIED:20250911T033511Z
UID:6809-1758891600-1758906900@crosbyintegrativetraining.com
SUMMARY:Webinar: Understanding and Navigating Prolonged Grief Disorder and Loss (4 CE’s)
DESCRIPTION:Description of Training: \nProlonged Grief Disorder is a new diagnosis announced in DSM-V-TR during the 2022 COVID-19 pandemic\, a time of rapidly rising environmental concerns\, social concerns and gun violence. We will examine what this recent diagnosis is and explore the positive and controversial aspects of it.   The workshop will delineate “normal” grief from prolonged grief disorder. We will explore death and non-death losses in clinical work (divorce\, unemployment\, illness\, social justice issues\, etc.)  and how these losses need to be identified and understood as a dual process model between the shifting dynamics of loss and resilience. \nThe workshop will explore Kubler- Ross and Kessler’s” five stages of grief theory” and how it has been challenged by research findings for over the last twenty years. This workshop will explore a response theory approach to grief and bereavement as opposed to distinct and finite stages and explore a dual process model of coping with bereavement and non-death loss and grief. A focus will be on identifying the evidenced based risk factors of prolonged grief disorder and explore culturally sensitive approaches in dealing with grief and bereavement. The workshop will examine scales that can help with identification of prolonged grief disorder. \nThis workshop will combine finding meaning in death and non-death loss with an integrative tool-based approach that can be adapted to a wide variety individuals and socio-cultural identities. Meets Cultural Competency CE requirement. \nObjectives: \n\nAnalyze how prolonged grief disorder is experienced and expressed in clients and within diversity issues.\nExamine a response theory to death and non-death losses.\nDelineate the Dual Process Model for coping with death and non-death loss and grief.\nExplore outcome measures that are helpful in identifying the diagnosis of Prolonged Grief Disorder.\nUtilize an integrative tool-based approach across therapies that can be adapted to a wide variety of individuals and socio-cultural identities.\n\nReferences: \nDaniel\, T. (2023) The stubborn persistence of grief stage theory. Journal of death and dying. Vol.0(0) pp.1-15. Thousand Oaks\, California: Sage Publishing. \nDoka\, K. and Martin\, T. (2025) Grieving beyond gender: Understanding diverse grieving styles. Third Edition. New York: Routledge. \nParkes\, C. M.  Laungani\, P. and Young\, B. (2015) Death and bereavement across cultures. Second Edition. New York: Routledge. \nNeimeyer\, R. (2015) Techniques of grief therapy: Assessment and intervention. New York: Routledge. \nNeimeyer\, R. (2025) Living beyond loss: Questions and answers about death and bereavement. New York: Routledge. \nReynolds\, C.\, Cozza\, S.\, Maciejewski\, P.\, Prigerson\, H.\, Shear\, K.\, Simon\, N. and Zisook\, S. (2023) Grief and prolonged grief disorder. Washington DC.: American Psychiatric Press. \nWalsh\, F. and McGoldrick\, M. (2004) Living beyond loss: Death in the family. New York: Norton Press.
URL:https://crosbyintegrativetraining.com/course/law-ethics-and-supervision-through-movies-stories-and-tv-2-2-2-2-2-2-4/
CATEGORIES:Mental Health
ORGANIZER;CN="Greg Crosby MA LPC ICGP FAGPA":MAILTO:gregc1112@aol.com
END:VEVENT
END:VCALENDAR