BEGIN:VCALENDAR
VERSION:2.0
PRODID:-//Crosby Integrative Training - ECPv6.15.17.1//NONSGML v1.0//EN
CALSCALE:GREGORIAN
METHOD:PUBLISH
X-ORIGINAL-URL:https://crosbyintegrativetraining.com
X-WR-CALDESC:Events for Crosby Integrative Training
REFRESH-INTERVAL;VALUE=DURATION:PT1H
X-Robots-Tag:noindex
X-PUBLISHED-TTL:PT1H
BEGIN:VTIMEZONE
TZID:UTC
BEGIN:STANDARD
TZOFFSETFROM:+0000
TZOFFSETTO:+0000
TZNAME:UTC
DTSTART:20240101T000000
END:STANDARD
END:VTIMEZONE
BEGIN:VEVENT
DTSTART;TZID=UTC:20250117T130000
DTEND;TZID=UTC:20250117T171500
DTSTAMP:20260424T114013
CREATED:20180821T071348Z
LAST-MODIFIED:20241210T055303Z
UID:6649-1737118800-1737134100@crosbyintegrativetraining.com
SUMMARY:Webinar: Polarities of American Culture and the Impact on Therapy: Amish/Las Vegas (4 CE’s)
DESCRIPTION:Description of Training: \nThe Amish and Las Vegas are symbols of two polarities in American culture\, in the world and within ourselves. Las Vegas represents fast pace\, instant gratification\, materialism\, risk\, impulse\, excitement\, and individualism. The Amish symbolize simplicity\, plainness\, selflessness\, community\, slow change\, and humility.  The workshop will explore a clinical integrative model that links how thoughts\, behavior\, biology and feelings and values are interacting in our clients and in ourselves. A cultural/therapy model gives us a wider clinical perspective of how ADHD\, depression\, anxiety\, addiction\, family dysfunction\, and trauma affects our lives. We will explore cultural context and how to identify skills to regulate cultural polarities that affect our dynamics and symptoms such as:  under and over stimulation\, self- oriented versus other- directed\, denial of loss versus honoring loss\, violence versus nonviolence\, present versus past\, enmeshment versus disengagement and blaming versus accepting. This workshop will be a fascinating\, informative\, engaging blend of culture/ therapy information\, stories\, discussions and suggestion on how to resolve the tensions in the Amish/Las Vegas polarity that are within many clinical settings. Meets Cultural Competency CE requirement. \nThis training will be conducted in a webinar format. You will receive an email prior to the webinar with instructions on how to sign in to the webinar. \nLearning Objectives: \n\nEmphasize the presence of polarities that exist in culture and ourselves.\nHighlight a trans-theoretical model that integrates mind/mood/behaviors and the body with culture/environment.\nLearn how to integrate a holistic cultural perspective with dynamic tensions such as self-directed other directed.\nLearn how the Technology Gap theory can help us better understand how our clients are affected by technological forces (cell phones\, computers\, etc.) and how to problem solve collaboratively and manage technology use.\nExamine approaches to minimize self and other directed violence.\n\n  \n 
URL:https://crosbyintegrativetraining.com/course/amish-las-vegas-polarities-of-american-culture-through-movies-and-stories-2-2-2-2-3-2/
CATEGORIES:Mental Health
ORGANIZER;CN="Greg Crosby MA LPC ICGP FAGPA":MAILTO:gregc1112@aol.com
END:VEVENT
BEGIN:VEVENT
DTSTART;TZID=UTC:20250131T130000
DTEND;TZID=UTC:20250131T171500
DTSTAMP:20260424T114013
CREATED:20180821T071348Z
LAST-MODIFIED:20241210T055249Z
UID:6657-1738328400-1738343700@crosbyintegrativetraining.com
SUMMARY:Webinar: Navigating One of Life’s Most Difficult Moments: Finding Hope within Suicide Ideation and Plan (4 CE's)
DESCRIPTION:Description of Training: \nThe workshop will examine an integrative perspective of suicide prevention/ assessment and treatment planning through the lens of psychology/sociology/anthropology\, myths and stories.  A focus will be on a collaborative suicide assessment and how to implement strength based interventions to reduce suicidality. We will also address the importance of self-care of the clinician. The workshop will focus on how to find resilience when we face difficult moments in our clients and our own stories. Meets Suicide Risk Assessment\, Treatment\, and Management CE requirement. \nThis training will be conducted in a webinar format. You will receive an email prior to the webinar with instructions on how to sign in to the webinar. \nLearning Objectives: \n\nUnderstand suicide ideation and attempt from an interdisciplinary perspective.\nLearn Suicide Risk Assessment\, treatment\, and management.\nExamine a strength based approach.\nLearn prevention and resilience steps.\nExamine clinician self-care rituals.
URL:https://crosbyintegrativetraining.com/course/heros-journey-in-therapy-integrating-joseph-campbell-and-evidenced-based-practices-4-2-2-3-2-2-2-2-2/
CATEGORIES:Mental Health
ORGANIZER;CN="Greg Crosby MA LPC ICGP FAGPA":MAILTO:gregc1112@aol.com
END:VEVENT
END:VCALENDAR