BEGIN:VCALENDAR
VERSION:2.0
PRODID:-//Crosby Integrative Training - ECPv6.15.17.1//NONSGML v1.0//EN
CALSCALE:GREGORIAN
METHOD:PUBLISH
X-ORIGINAL-URL:https://crosbyintegrativetraining.com
X-WR-CALDESC:Events for Crosby Integrative Training
REFRESH-INTERVAL;VALUE=DURATION:PT1H
X-Robots-Tag:noindex
X-PUBLISHED-TTL:PT1H
BEGIN:VTIMEZONE
TZID:UTC
BEGIN:STANDARD
TZOFFSETFROM:+0000
TZOFFSETTO:+0000
TZNAME:UTC
DTSTART:20220101T000000
END:STANDARD
END:VTIMEZONE
BEGIN:VEVENT
DTSTART;TZID=UTC:20230818T130000
DTEND;TZID=UTC:20230818T171500
DTSTAMP:20260426T014558
CREATED:20180821T071348Z
LAST-MODIFIED:20230327T203503Z
UID:6138-1692363600-1692378900@crosbyintegrativetraining.com
SUMMARY:Webinar: Utilizing Stages of Change and Cultural Formulation Interviewing within Diversity Issues (4 CE's)
DESCRIPTION:Description of Training: \nThis workshop will address ways to navigate diversity during treatment. The Cultural Formulation questions in the DSM-V -TR will be examined to help facilitate a shared understanding between client and therapist.  The workshop will focus on how to understand the change process by showing how to utilize the Stages of Change model within diversity issues.  This presentation will be a practical multidisciplinary lecture and include demonstrations with audience exercises. Meets Cultural Competency CE requirement. \nThis training will be conducted in a webinar format. You will receive an email prior to the webinar with instructions on how to sign in to the webinar. \nLearning Objectives: \n\nLearn the cultural formulation questions to enhance understanding of client and their context.\nIncrease understanding on how cultural formulation interviewing enhances diversity orientation to ask not just self oriented but other oriented questions.\nExamine how to prepare people for cultural formulation questions.\nExamine Stages of Change and how to help understand issues surrounding diversity.\n\n 
URL:https://crosbyintegrativetraining.com/course/heros-journey-in-therapy-integrating-joseph-campbell-and-evidenced-based-practices-2-3-3-2-2-2-4-2/
CATEGORIES:Mental Health
ORGANIZER;CN="Greg Crosby MA LPC ICGP FAGPA":MAILTO:gregc1112@aol.com
END:VEVENT
BEGIN:VEVENT
DTSTART;TZID=UTC:20230825T130000
DTEND;TZID=UTC:20230825T171500
DTSTAMP:20260426T014558
CREATED:20180821T071348Z
LAST-MODIFIED:20230327T205127Z
UID:6179-1692968400-1692983700@crosbyintegrativetraining.com
SUMMARY:Webinar: Getting a Handle on ADHD (4 CE’s)
DESCRIPTION:Description of Training: \nADD/ ADHD in adults can be a confusing and overwhelming experience because of the attention variability pattern of hyper focusing\, under focusing and emotional/behavioral dysregulation. In this workshop we will explore an overview of Adult ADHD through the lens of interpersonal neurobiology. We will review the changes in the DSM-5 and focus on assessment and delineating co-occurring diagnoses. Outcome measures and surveys will be examined to increase effectiveness in diagnosis clarity and treatment planning. \nAn integrative CBT model of core behavioral/emotional and cognitive skills will be explored within a bio/psycho/social context to help regulate emotions/attention and behavior.  Reflection of how ones learning style(s) affects attention and concentration will explored in a strength based perspective.  This workshop can be beneficial for those who work with children and teens who have an ADHD diagnosis. Suggestions on how to discuss and suggest “reasonable accommodations” for ADHD will be reviewed. \nThis training will be conducted in a webinar format. You will receive an email prior to the webinar with instructions on how to sign in to the webinar. \nLearning Objectives: \n\nDelineate what ADHD has changed in the DSM-5 and how it can mask other diagnoses and also be co-occuring.\nExamine selected outcomes measures and report forms to enhance clarity of diagnosis.\nBetter understand an Interpersonal Neurobiology perspective on Adult ADHD.\nExplore how technology and environment impacts ADHD.\nDelineate behavioral/cognitive and emotional skills to better regulate ADHD.\nIncreased understanding helping clients find their own strengths through examining multiple intelligences and how our senses affect learning.\nLearn tips on how to discuss and suggest reasonable accommodations.
URL:https://crosbyintegrativetraining.com/course/heros-journey-in-therapy-integrating-joseph-campbell-and-evidenced-based-practices-3-3-2/
CATEGORIES:Mental Health
ORGANIZER;CN="Greg Crosby MA LPC ICGP FAGPA":MAILTO:gregc1112@aol.com
END:VEVENT
END:VCALENDAR