BEGIN:VCALENDAR
VERSION:2.0
PRODID:-//Crosby Integrative Training - ECPv6.15.17.1//NONSGML v1.0//EN
CALSCALE:GREGORIAN
METHOD:PUBLISH
X-WR-CALNAME:Crosby Integrative Training
X-ORIGINAL-URL:https://crosbyintegrativetraining.com
X-WR-CALDESC:Events for Crosby Integrative Training
REFRESH-INTERVAL;VALUE=DURATION:PT1H
X-Robots-Tag:noindex
X-PUBLISHED-TTL:PT1H
BEGIN:VTIMEZONE
TZID:UTC
BEGIN:STANDARD
TZOFFSETFROM:+0000
TZOFFSETTO:+0000
TZNAME:UTC
DTSTART:20180101T000000
END:STANDARD
END:VTIMEZONE
BEGIN:VEVENT
DTSTART;TZID=UTC:20190913T090000
DTEND;TZID=UTC:20190913T163000
DTSTAMP:20260425T152840
CREATED:20180821T071348Z
LAST-MODIFIED:20190914T023449Z
UID:4857-1568365200-1568392200@crosbyintegrativetraining.com
SUMMARY:Learning Mental Health Ethics and Law through Stories and Movies    (6 CE's)
DESCRIPTION:Description of Training: \nStories and movies inform us about boundaries\, confidentiality and its limits\, working with in a scope of practice\, importance of self-awareness and how it impacts ethics.  We will be examining popular stories such as One Flew Over the Cuckoo’s Nest\, The Wizard of OZ and TV shows such as In Treatment to illustrate problems and guidelines on how to make ethical decisions. \nThis course is designed to help us learn and reflect on how to understand and navigate ethical decisions through experiencing the wonderful medium of stories and movies into reflections on our practice. Meets Law and Ethics CE requirement. \nLearning Objectives: \n\nExamine the functions and commonalities of all ethical codes and how brain science explains ethics\nExamine the dilemmas of setting boundaries\nLearn the Cultural Formulation  Model\nReview confidentiality and its limits\nDelineate the steps in ethical decision making\nReflect on implications of technology and ethics\nExamine the AGPA Ethical Code for group therapy\n\n 
URL:https://crosbyintegrativetraining.com/course/heros-journey-in-therapy-integrating-joseph-campbell-and-evidenced-based-practices-2/
LOCATION:Hilton Garden Inn\, 14850 Kruse Oaks Blvd\, Lake Oswego\, OR\, 97035\, United States
CATEGORIES:Mental Health
ORGANIZER;CN="Greg Crosby MA LPC ICGP FAGPA":MAILTO:gregc1112@aol.com
END:VEVENT
END:VCALENDAR