BEGIN:VCALENDAR
VERSION:2.0
PRODID:-//Crosby Integrative Training - ECPv6.15.17.1//NONSGML v1.0//EN
CALSCALE:GREGORIAN
METHOD:PUBLISH
X-WR-CALNAME:Crosby Integrative Training
X-ORIGINAL-URL:https://crosbyintegrativetraining.com
X-WR-CALDESC:Events for Crosby Integrative Training
REFRESH-INTERVAL;VALUE=DURATION:PT1H
X-Robots-Tag:noindex
X-PUBLISHED-TTL:PT1H
BEGIN:VTIMEZONE
TZID:UTC
BEGIN:STANDARD
TZOFFSETFROM:+0000
TZOFFSETTO:+0000
TZNAME:UTC
DTSTART:20250101T000000
END:STANDARD
END:VTIMEZONE
BEGIN:VEVENT
DTSTART;TZID=UTC:20260130T130000
DTEND;TZID=UTC:20260130T171500
DTSTAMP:20260423T201605
CREATED:20251203T220245Z
LAST-MODIFIED:20251203T220502Z
UID:6960-1769778000-1769793300@crosbyintegrativetraining.com
SUMMARY:Webinar: Navigating One of Life’s Most Difficult Moments: Finding Hope within Suicide Ideation and Plan (4 CE's)
DESCRIPTION:Description of Training: \nThe workshop will examine an integrative perspective of suicide prevention/ assessment and treatment planning through the lens of psychology/sociology/anthropology\, myths and stories.  A focus will be on a collaborative suicide assessment and how to implement strength based interventions to reduce suicidality. We will also address the importance of self-care of the clinician. The workshop will focus on how to find resilience when we face difficult moments in our clients and our own stories. Meets Suicide Risk Assessment\, Treatment\, and Management CE requirement. \nThis training will be conducted in a webinar format. You will receive an email prior to the webinar with instructions on how to sign in to the webinar. \nLearning Objectives: \n\nUnderstand suicide ideation and attempt from an interdisciplinary perspective.\nLearn Suicide Risk Assessment\, treatment\, and management.\nExamine a strength based approach.\nLearn prevention and resilience steps.\nExamine clinician self-care rituals.
URL:https://crosbyintegrativetraining.com/course/heros-journey-in-therapy-integrating-joseph-campbell-and-evidenced-based-practices-4-2-2-3-2-2-2-2-2-copy/
CATEGORIES:Mental Health
ORGANIZER;CN="Greg Crosby MA LPC ICGP FAGPA":MAILTO:gregc1112@aol.com
END:VEVENT
END:VCALENDAR